BEGIN:VCALENDAR
VERSION:2.0
PRODID:-//Föreningarnashus Kristianstad - ECPv6.15.20//NONSGML v1.0//EN
CALSCALE:GREGORIAN
METHOD:PUBLISH
X-ORIGINAL-URL:https://foreningarnashuskristianstad.se
X-WR-CALDESC:Händelser för Föreningarnashus Kristianstad
REFRESH-INTERVAL;VALUE=DURATION:PT1H
X-Robots-Tag:noindex
X-PUBLISHED-TTL:PT1H
BEGIN:VTIMEZONE
TZID:UTC
BEGIN:STANDARD
TZOFFSETFROM:+0000
TZOFFSETTO:+0000
TZNAME:UTC
DTSTART:20250101T000000
END:STANDARD
END:VTIMEZONE
BEGIN:VEVENT
DTSTART;TZID=UTC:20260205T000000
DTEND;TZID=UTC:20260205T235959
DTSTAMP:20260419T185515
CREATED:20251219T130247Z
LAST-MODIFIED:20251219T130248Z
UID:5337-1770249600-1770335999@foreningarnashuskristianstad.se
SUMMARY:Stallet\, 12-17
DESCRIPTION:
URL:https://foreningarnashuskristianstad.se/event/stallet-12-17-3/
END:VEVENT
BEGIN:VEVENT
DTSTART;TZID=UTC:20260206T000000
DTEND;TZID=UTC:20260206T235959
DTSTAMP:20260419T185515
CREATED:20251219T130316Z
LAST-MODIFIED:20251219T130317Z
UID:5339-1770336000-1770422399@foreningarnashuskristianstad.se
SUMMARY:Stallet\, 18-22
DESCRIPTION:
URL:https://foreningarnashuskristianstad.se/event/stallet-18-22-38/
END:VEVENT
BEGIN:VEVENT
DTSTART;TZID=UTC:20260207T000000
DTEND;TZID=UTC:20260207T235959
DTSTAMP:20260419T185515
CREATED:20251219T130336Z
LAST-MODIFIED:20251219T130337Z
UID:5341-1770422400-1770508799@foreningarnashuskristianstad.se
SUMMARY:Stallet\, Heldag
DESCRIPTION:
URL:https://foreningarnashuskristianstad.se/event/stallet-heldag-71/
END:VEVENT
BEGIN:VEVENT
DTSTART;TZID=UTC:20260208T000000
DTEND;TZID=UTC:20260208T235959
DTSTAMP:20260419T185515
CREATED:20260107T095843Z
LAST-MODIFIED:20260107T095844Z
UID:5438-1770508800-1770595199@foreningarnashuskristianstad.se
SUMMARY:Stallet 10.30-16.30
DESCRIPTION:
URL:https://foreningarnashuskristianstad.se/event/stallet-10-30-16-30/
END:VEVENT
BEGIN:VEVENT
DTSTART;TZID=UTC:20260210T000000
DTEND;TZID=UTC:20260210T235959
DTSTAMP:20260419T185515
CREATED:20250926T094449Z
LAST-MODIFIED:20250926T095739Z
UID:5213-1770681600-1770767999@foreningarnashuskristianstad.se
SUMMARY:Stallet 12.30-16.30
DESCRIPTION:
URL:https://foreningarnashuskristianstad.se/event/stallet-12-30-16-20/
END:VEVENT
BEGIN:VEVENT
DTSTART;TZID=UTC:20260210T000000
DTEND;TZID=UTC:20260210T235959
DTSTAMP:20260419T185515
CREATED:20250926T094516Z
LAST-MODIFIED:20250926T094517Z
UID:5215-1770681600-1770767999@foreningarnashuskristianstad.se
SUMMARY:Stallet 18-22
DESCRIPTION:
URL:https://foreningarnashuskristianstad.se/event/stallet-18-22-21/
END:VEVENT
BEGIN:VEVENT
DTSTART;TZID=UTC:20260214T000000
DTEND;TZID=UTC:20260214T235959
DTSTAMP:20260419T185515
CREATED:20251219T130358Z
LAST-MODIFIED:20251219T130359Z
UID:5343-1771027200-1771113599@foreningarnashuskristianstad.se
SUMMARY:Stallet\, Heldag
DESCRIPTION:
URL:https://foreningarnashuskristianstad.se/event/stallet-heldag-72/
END:VEVENT
BEGIN:VEVENT
DTSTART;TZID=UTC:20260218T000000
DTEND;TZID=UTC:20260218T235959
DTSTAMP:20260419T185515
CREATED:20250926T094545Z
LAST-MODIFIED:20251219T130452Z
UID:5217-1771372800-1771459199@foreningarnashuskristianstad.se
SUMMARY:Stallet 15-22
DESCRIPTION:
URL:https://foreningarnashuskristianstad.se/event/stallet-12-19-3/
END:VEVENT
BEGIN:VEVENT
DTSTART;TZID=UTC:20260221T000000
DTEND;TZID=UTC:20260221T235959
DTSTAMP:20260419T185515
CREATED:20251219T130601Z
LAST-MODIFIED:20251219T130603Z
UID:5348-1771632000-1771718399@foreningarnashuskristianstad.se
SUMMARY:Stallet\, 10-15
DESCRIPTION:
URL:https://foreningarnashuskristianstad.se/event/stallet-10-15/
END:VEVENT
BEGIN:VEVENT
DTSTART;TZID=UTC:20260223T000000
DTEND;TZID=UTC:20260223T235959
DTSTAMP:20260419T185515
CREATED:20251219T130641Z
LAST-MODIFIED:20251219T130642Z
UID:5350-1771804800-1771891199@foreningarnashuskristianstad.se
SUMMARY:Stallet\, 17.30-20
DESCRIPTION:
URL:https://foreningarnashuskristianstad.se/event/stallet-17-30-20/
END:VEVENT
BEGIN:VEVENT
DTSTART;TZID=UTC:20260224T000000
DTEND;TZID=UTC:20260224T235959
DTSTAMP:20260419T185515
CREATED:20250926T094609Z
LAST-MODIFIED:20250926T094610Z
UID:5219-1771891200-1771977599@foreningarnashuskristianstad.se
SUMMARY:Stallet 18-22
DESCRIPTION:
URL:https://foreningarnashuskristianstad.se/event/stallet-18-22-23/
END:VEVENT
BEGIN:VEVENT
DTSTART;TZID=UTC:20260225T000000
DTEND;TZID=UTC:20260225T235959
DTSTAMP:20260419T185515
CREATED:20251219T130710Z
LAST-MODIFIED:20251219T130711Z
UID:5352-1771977600-1772063999@foreningarnashuskristianstad.se
SUMMARY:Stallet\, 17-21
DESCRIPTION:
URL:https://foreningarnashuskristianstad.se/event/stallet-17-21-7/
END:VEVENT
BEGIN:VEVENT
DTSTART;TZID=UTC:20260225T000000
DTEND;TZID=UTC:20260225T235959
DTSTAMP:20260419T185515
CREATED:20260127T102223Z
LAST-MODIFIED:20260127T102224Z
UID:5523-1771977600-1772063999@foreningarnashuskristianstad.se
SUMMARY:Stallet\, 8-12
DESCRIPTION:
URL:https://foreningarnashuskristianstad.se/event/stallet-8-12-2/
END:VEVENT
BEGIN:VEVENT
DTSTART;TZID=UTC:20260226T000000
DTEND;TZID=UTC:20260226T235959
DTSTAMP:20260419T185515
CREATED:20251219T130732Z
LAST-MODIFIED:20251219T130733Z
UID:5354-1772064000-1772150399@foreningarnashuskristianstad.se
SUMMARY:Stallet\, 16-18
DESCRIPTION:
URL:https://foreningarnashuskristianstad.se/event/stallet-16-18/
END:VEVENT
BEGIN:VEVENT
DTSTART;TZID=UTC:20260226T000000
DTEND;TZID=UTC:20260226T235959
DTSTAMP:20260419T185515
CREATED:20251219T130758Z
LAST-MODIFIED:20251219T130759Z
UID:5356-1772064000-1772150399@foreningarnashuskristianstad.se
SUMMARY:Stallet\, 18-21.30
DESCRIPTION:
URL:https://foreningarnashuskristianstad.se/event/stallet-18-21-30-2/
END:VEVENT
BEGIN:VEVENT
DTSTART;TZID=UTC:20260226T000000
DTEND;TZID=UTC:20260226T235959
DTSTAMP:20260419T185515
CREATED:20260123T121606Z
LAST-MODIFIED:20260123T121607Z
UID:5496-1772064000-1772150399@foreningarnashuskristianstad.se
SUMMARY:Stallet\, 8-12
DESCRIPTION:
URL:https://foreningarnashuskristianstad.se/event/stallet-8-12/
END:VEVENT
BEGIN:VEVENT
DTSTART;TZID=UTC:20260228T000000
DTEND;TZID=UTC:20260228T235959
DTSTAMP:20260419T185515
CREATED:20251219T130820Z
LAST-MODIFIED:20251219T130821Z
UID:5358-1772236800-1772323199@foreningarnashuskristianstad.se
SUMMARY:Stallet\, Heldag
DESCRIPTION:
URL:https://foreningarnashuskristianstad.se/event/stallet-heldag-73/
END:VEVENT
END:VCALENDAR